BEGIN:VCALENDAR
VERSION:2.0
PRODID:-//HUBERTUS - ECPv6.8.1//NONSGML v1.0//EN
CALSCALE:GREGORIAN
METHOD:PUBLISH
X-ORIGINAL-URL:https://hubertus-chodziez.pl
X-WR-CALDESC:Events for HUBERTUS
REFRESH-INTERVAL;VALUE=DURATION:PT1H
X-Robots-Tag:noindex
X-PUBLISHED-TTL:PT1H
BEGIN:VTIMEZONE
TZID:Europe/Warsaw
BEGIN:DAYLIGHT
TZOFFSETFROM:+0100
TZOFFSETTO:+0200
TZNAME:CEST
DTSTART:20210328T010000
END:DAYLIGHT
BEGIN:STANDARD
TZOFFSETFROM:+0200
TZOFFSETTO:+0100
TZNAME:CET
DTSTART:20211031T010000
END:STANDARD
END:VTIMEZONE
BEGIN:VEVENT
DTSTART;VALUE=DATE:20211003
DTEND;VALUE=DATE:20211004
DTSTAMP:20260425T150535
CREATED:20210712T133507Z
LAST-MODIFIED:20240128T210949Z
UID:3998-1633219200-1633305599@hubertus-chodziez.pl
SUMMARY:Zawody w Strzelectwie Myśliwskim o Puchar CZ
DESCRIPTION:Wyniki zawodów o Puchar CZ – kliknij aby pobrać \nZapraszamy na Zawody w Strzelectwie Myśliwskim o Puchar CZ\, które odbędą się 03.10.2021r. \nPobierz regulamin CZ CUP 2021 – Pięciobój Myśliwski \n\n\n\n\n\n\n\n\n\n\n\n\n\n    \nFilter CategoriesFilter - All
URL:https://hubertus-chodziez.pl/event/zawody-w-strzelectwie-mysliwskim-o-puchar-cz/
LOCATION:Strzelnica Chodzież\, Studzieniec 28A\, Chodzież\, 64-800\, Chodzież\, Poland
END:VEVENT
END:VCALENDAR